BEGIN:VCALENDAR
VERSION:2.0
PRODID:icalendar-ruby
CALSCALE:GREGORIAN
METHOD:PUBLISH
BEGIN:VEVENT
DTSTAMP:20260421T093028Z
UID:75-1212202@encounterlife.today
DTSTART:20260305T004000Z
DTEND:20260305T021500Z
CLASS:PUBLIC
CREATED:20260420T194218
DESCRIPTION:Worship &amp\; the Word along with Prayer
LAST-MODIFIED:20260420T194218
LOCATION:
SUMMARY:God Encounter 
URL;VALUE=URI:https://www.encounterlife.today/events/god-encounter/2026-03-
 04
ATTACH;FILENAME=Event-Featured-Images.jpg;FMTTYPE=image/jpeg:https://dq5pwp
 g1q8ru0.cloudfront.net/2026/01/07/03/09/24/cd5c1a69-d900-4d2d-b775-ad0421a
 2c981/Event-Featured-Images.jpg
END:VEVENT
END:VCALENDAR
